BEGIN:VCALENDAR
VERSION:2.0
CALSCALE:GREGORIAN
PRODID:adamgibbons/ics
METHOD:PUBLISH
X-PUBLISHED-TTL:PT1H
BEGIN:VEVENT
UID:512@www.fuorinellanebbia.it
SUMMARY:Fuochi di libertà
DTSTAMP:20260425T022812Z
DTSTART:20260430T190000Z
URL:https://www.fuorinellanebbia.it/event/fuochi-di-liberta
GEO:44.2192547;12.0376972
LOCATION:Circolo Arci Valverde - Via Valverde\, Ravaldino\, Quartiere Raval
	dino\, Forlì\, Unione di Comuni della Romagna Forlivese\, Forlì-Cesena\, E
	milia-Romagna\, 47121\, Italia
STATUS:CONFIRMED
CATEGORIES:Forlì,antifascismo,djset,mostre,resistenza
END:VEVENT
END:VCALENDAR
