BEGIN:VCALENDAR
VERSION:2.0
CALSCALE:GREGORIAN
PRODID:adamgibbons/ics
METHOD:PUBLISH
X-PUBLISHED-TTL:PT1H
BEGIN:VEVENT
UID:505@www.fuorinellanebbia.it
SUMMARY:Tutti per una\, un'ape per tutti
DTSTAMP:20260423T202648Z
DTSTART:20260424T150000Z
URL:https://www.fuorinellanebbia.it/event/tutti-per-una-unape-per-tutti
LOCATION:Manifattura dei Marinati - Corso G. Mazzini\, 200\, 44022 Comacchi
	o FE
STATUS:CONFIRMED
CATEGORIES:Ingresso Libero,comacchio,laboratorio
END:VEVENT
END:VCALENDAR
