BEGIN:VCALENDAR
VERSION:2.0
CALSCALE:GREGORIAN
PRODID:adamgibbons/ics
METHOD:PUBLISH
X-PUBLISHED-TTL:PT1H
BEGIN:VEVENT
UID:507@www.fuorinellanebbia.it
SUMMARY:Resistenza in cammino
DTSTAMP:20260425T141218Z
DTSTART:20260425T083000Z
DESCRIPTION:Tour storico e pranzo sociale
URL:https://www.fuorinellanebbia.it/event/resistenza-in-cammino
GEO:44.059367550000005;12.568403447295104
LOCATION:Monumento dei 3 martiri - Piazza Tre Martiri\, San Giovanni\, Rimi
	ni\, Emilia-Romagna\, 47921\, Italia
STATUS:CONFIRMED
CATEGORIES:rimini,resistenza,passeggiata,pranzo sociale
X-ALT-DESC;FMTTYPE=text/html:<p>Tour storico e pranzo sociale</p>
BEGIN:VALARM
ACTION:DISPLAY
DESCRIPTION:Resistenza in cammino
TRIGGER:-PT1H
END:VALARM
END:VEVENT
END:VCALENDAR
