BEGIN:VCALENDAR
VERSION:2.0
CALSCALE:GREGORIAN
PRODID:adamgibbons/ics
METHOD:PUBLISH
X-PUBLISHED-TTL:PT1H
BEGIN:VEVENT
UID:511@www.fuorinellanebbia.it
SUMMARY:BLOCCHIAMO GUERRE E FASCISMO:MANDIAMO A CASA IL GOVERNO MELONI!
DTSTAMP:20260425T140919Z
DTSTART:20260425T083000Z
DESCRIPTION:25 aprile ore 10:30\nPresidio in Piazza Caduti Ravenna con cort
	eo verso il Ponte dei Martiri\n\nIl 25 Aprile non è solo una ricorrenza di
	 memoria\, ma il far vivere\nl’antifascismo oggi come un impegno vivo per 
	il presente in un mondo segnato da\nun escalation bellica senza precedenti
	.\nPer questo scendiamo in piazza anche a Ravenna\, città medaglia d’oro a
	lla\nResistenza\, per gridare il nostro fermo rifiuto a un sistema che si 
	nutre di\nconflitti e oppressione.\nContro l'imperialismo e il servilismo 
	denunciamo con forza un Occidente che\ncontinua a imporre la propria egemo
	nia attraverso la forza militare e il\nsoffocamento economico. In questo s
	cenario\, il Governo Meloni dimostra un totale\ne colpevole servilismo e c
	omplicità\, appiattendosi sulle direttive di Washington\nsenza alcuna auto
	nomia e confermandosi complice al genocidio e alle guerre di\nTrump e Neta
	nyahu.\nAssieme all'Unione Europea\, l'Italia rinuncia a ogni ruolo di med
	iazione\,\nmettendosi anzi nel ruolo di chi alimenta l'escalation ai propr
	i confini invece\ndi condannarla.\nEsprimiamo la nostra totale opposizione
	 a ogni forma di guerra di aggressione\nall'Iran e al Libano e ribadiamo l
	a nostra solidarietà ai popoli che resistono\nalle ingerenze esterne come 
	a Cuba e in Venezuela dove condanniamo i blocchi\neconomici e i tentativi 
	di destabilizzazione operati dagli Stati Uniti.\nContinuiamo la lotta in s
	ostegno al popolo palestinese da Gaza alla Cisgiordania\ncome abbiamo fatt
	o anche a livello cittadino con le azioni di sensibilizzazione\,\nboicotta
	ggio e denuncia dei traffici di armi nel nostro porto.\nA giorni consegner
	emo la petizione comunale per chiedere al Comune di\ninterrompere proprio 
	i rapporti con Israele: a partire dai commerci di merci e\narmi e dalla co
	llaborazione nel progetto Undersec nel nostro porto fino al\nboicottaggio 
	dei farmaci TEVA nelle strutture sanitarie.\nVogliamo risposte e fatti rea
	li dal Sindaco\, dall'Amministrazione Comunale e\ndalla maggioranza di cen
	trosinistra che si è sempre nascosta dietro a vuote\nenunciazioni.\nLa Gue
	rra è un furto: mentre i profitti dell'industria bellica volano\, la\nmagg
	ioranza popolare paga il prezzo più alto. I miliardi destinati alle armi\n
	vengono tolti alla sanità\, alla scuola e ai trasporti. L'inflazione e il\
	ncarovita schiacciano i lavoratori e le lavoratrici mentre le élite finanz
	iarie\nspeculano sul conflitto.\nLa Pace è una necessità\, non è un'astraz
	ione\, è l'unica condizione per la\nsopravvivenza dell'umanità.\nÈ l'inter
	esse della stragrande maggioranza contro l'interesse dei pochi\, i\nsignor
	i della guerra che lucrano sul sangue dei popoli.\nA ogni guerra esterna p
	oi corrisponde una guerra interna contro ogni forma di\ndissenso colpendo 
	attivisti e movimenti : dalla lotta diretta contro la macchina\nbellica al
	le resistenze contro il Governo Meloni e questo modello di sviluppo.\nDopo
	 aver rotto gli argini questo autunno con due scioperi generali e milioni 
	di\npersone in piazza\, dopo aver dato uno schiaffo alla Meloni con la str
	aordinaria\nbatosta al referendum\, sarà un 25 aprile che riporta in piazz
	a l'opposizione al\nGoverno Meloni e alle sue politiche repressive\, antip
	opolari e guerrafondaie\,\nrendendo viva la solidarietà internazionalista 
	con i popoli sotto attacco\ndell'imperialismo.\n\n\nMANDIAMOLI A CASA!
URL:https://www.fuorinellanebbia.it/event/blocchiamo-guerre-e-fascismomandi
	amo-a-casa-il-governo-meloni
LOCATION:Piazza dei Caduti - Ravenna - Piazza dei Caduti - Ravenna
STATUS:CONFIRMED
CATEGORIES:Ravenna,manifestazione,antifascismo,25 aprile,antimilitarismo
X-ALT-DESC;FMTTYPE=text/html:<p>25 aprile ore 10:30<br>Presidio in Piazza C
	aduti Ravenna con corteo verso il Ponte dei Martiri<br><br>Il 25 Aprile no
	n è solo una ricorrenza di memoria, ma il far vivere l’antifascismo oggi c
	ome un impegno vivo per il presente in un mondo segnato da un escalation b
	ellica senza precedenti.<br>Per questo scendiamo in piazza anche a Ravenna
	, città medaglia d’oro alla Resistenza, per gridare il nostro fermo rifiut
	o a un sistema che si nutre di conflitti e oppressione.<br>Contro l'imperi
	alismo e il servilismo denunciamo con forza un Occidente che continua a im
	porre la propria egemonia attraverso la forza militare e il soffocamento e
	conomico. In questo scenario, il Governo Meloni dimostra un totale e colpe
	vole servilismo e complicità, appiattendosi sulle direttive di Washington 
	senza alcuna autonomia e confermandosi complice al genocidio e alle guerre
	 di Trump e Netanyahu.<br>Assieme all'Unione Europea, l'Italia rinuncia a 
	ogni ruolo di mediazione, mettendosi anzi nel ruolo di chi alimenta l'esca
	lation ai propri confini invece di condannarla.<br>Esprimiamo la nostra to
	tale opposizione a ogni forma di guerra di aggressione all'Iran e al Liban
	o e ribadiamo la nostra solidarietà ai popoli che resistono alle ingerenze
	 esterne come a Cuba e in Venezuela dove condanniamo i blocchi economici e
	 i tentativi di destabilizzazione operati dagli Stati Uniti.<br>Continuiam
	o la lotta in sostegno al popolo palestinese da Gaza alla Cisgiordania com
	e abbiamo fatto anche a livello cittadino con le azioni di sensibilizzazio
	ne, boicottaggio e denuncia dei traffici di armi nel nostro porto.<br>A gi
	orni consegneremo la petizione comunale per chiedere al Comune di interrom
	pere proprio i rapporti con Israele: a partire dai commerci di merci e arm
	i e dalla collaborazione nel progetto Undersec nel nostro porto fino al bo
	icottaggio dei farmaci TEVA nelle strutture sanitarie.<br>Vogliamo rispost
	e e fatti reali dal Sindaco, dall'Amministrazione Comunale e dalla maggior
	anza di centrosinistra che si è sempre nascosta dietro a vuote enunciazion
	i.<br>La Guerra è un furto: mentre i profitti dell'industria bellica volan
	o, la maggioranza popolare paga il prezzo più alto. I miliardi destinati a
	lle armi vengono tolti alla sanità, alla scuola e ai trasporti. L'inflazio
	ne e il carovita schiacciano i lavoratori e le lavoratrici mentre le élite
	 finanziarie speculano sul conflitto.<br>La Pace è una necessità, non è un
	'astrazione, è l'unica condizione per la sopravvivenza dell'umanità.<br>È 
	l'interesse della stragrande maggioranza contro l'interesse dei pochi, i s
	ignori della guerra che lucrano sul sangue dei popoli.<br>A ogni guerra es
	terna poi corrisponde una guerra interna contro ogni forma di dissenso col
	pendo attivisti e movimenti : dalla lotta diretta contro la macchina belli
	ca alle resistenze contro il Governo Meloni e questo modello di sviluppo.<
	br>Dopo aver rotto gli argini questo autunno con due scioperi generali e m
	ilioni di persone in piazza, dopo aver dato uno schiaffo alla Meloni con l
	a straordinaria batosta al referendum, sarà un 25 aprile che riporta in pi
	azza l'opposizione al Governo Meloni e alle sue politiche repressive, anti
	popolari e guerrafondaie, rendendo viva la solidarietà internazionalista c
	on i popoli sotto attacco dell'imperialismo.</p><p><br>MANDIAMOLI A CASA!<
	/p>
BEGIN:VALARM
ACTION:DISPLAY
DESCRIPTION:BLOCCHIAMO GUERRE E FASCISMO:MANDIAMO A CASA IL GOVERNO MELONI!
TRIGGER:-PT1H
END:VALARM
END:VEVENT
END:VCALENDAR
