BEGIN:VCALENDAR
VERSION:2.0
CALSCALE:GREGORIAN
PRODID:adamgibbons/ics
METHOD:PUBLISH
X-PUBLISHED-TTL:PT1H
BEGIN:VEVENT
UID:508@www.fuorinellanebbia.it
SUMMARY:Assemblea organizzativa Festival antifascista e antirazzista
DTSTAMP:20260423T025631Z
DTSTART:20260429T173000Z
DESCRIPTION:🔥 Prossima Assemblea organizzativa per il FESTIVAL ANTIFASCISTA
	 E ANTIRAZZISTA\ndel 2 giugno a Cesena:\n📌 MERCOLEDÌ 29 APRILE\, ORE 19:30
	\nPresso via Sobborgo Valzania 27 a Cesena (grazie allo spazio Sole e Bale
	no che\nci ospita!)\n✊ L'incontro\, organizzato da alcune realtà ed indivi
	dualità locali\, è aperto a\ntutte le proposte.\nPartecipate all'assemblea
	!!!\nPER INFO E PROPOSTE PER IL FESTIVAL CONTATTARE LA MAIL\nantifacesena@
	protonmail.com
URL:https://www.fuorinellanebbia.it/event/assemblea-organizzativa-festival-
	antifascista-e-antirazzista
GEO:44.1377113;12.2538811
LOCATION:Spazio libertario Sole e Baleno - 27\, Sobborgo Valzania\, Quartie
	re Fiorenzuola\, Ponte Abbadesse\, Cesena\, Unione dei comuni Valle del Sa
	vio\, Forlì-Cesena\, Emilia-Romagna\, 47521\, Italia
STATUS:CONFIRMED
CATEGORIES:spaziosolebaleno,cesena,assemblea,antifascismo
X-ALT-DESC;FMTTYPE=text/html:<p>🔥 Prossima Assemblea organizzativa per il F
	ESTIVAL ANTIFASCISTA E ANTIRAZZISTA del 2 giugno a Cesena: <br>📌 MERCOLEDÌ
	 29 APRILE, ORE 19:30<br>Presso via Sobborgo Valzania 27 a Cesena (grazie 
	allo spazio Sole e Baleno che ci ospita!)<br>✊ L'incontro, organizzato da 
	alcune realtà ed individualità locali, è aperto a tutte le proposte.<br>Pa
	rtecipate all'assemblea!!! <br>PER INFO E PROPOSTE PER IL FESTIVAL CONTATT
	ARE LA MAIL antifacesena@protonmail.com</p>
BEGIN:VALARM
ACTION:DISPLAY
DESCRIPTION:Assemblea organizzativa Festival antifascista e antirazzista
TRIGGER:-PT1H
END:VALARM
END:VEVENT
END:VCALENDAR
